BEGIN:VCALENDAR
VERSION:2.0
PRODID:-//Financial Benefits Insurance - ECPv6.15.13.1//NONSGML v1.0//EN
CALSCALE:GREGORIAN
METHOD:PUBLISH
X-ORIGINAL-URL:https://fbihi.com
X-WR-CALDESC:Events for Financial Benefits Insurance
REFRESH-INTERVAL;VALUE=DURATION:PT1H
X-Robots-Tag:noindex
X-PUBLISHED-TTL:PT1H
BEGIN:VTIMEZONE
TZID:UTC
BEGIN:STANDARD
TZOFFSETFROM:+0000
TZOFFSETTO:+0000
TZNAME:UTC
DTSTART:20250101T000000
END:STANDARD
END:VTIMEZONE
BEGIN:VEVENT
DTSTART;TZID=UTC:20260423T113000
DTEND;TZID=UTC:20260423T133000
DTSTAMP:20260421T012400
CREATED:20260420T043801Z
LAST-MODIFIED:20260420T043801Z
UID:10002040-1776943800-1776951000@fbihi.com
SUMMARY:St Elizabeth’s Episcopal Church Fair
DESCRIPTION:
URL:https://fbihi.com/medicare-event-global/st-elizabeths-episcopal-church-fair/
LOCATION:720 N King St – Honolulu\, 720 N King St – Honolulu\, United States
CATEGORIES:Medicare Events
ATTACH;FMTTYPE=image/png:https://fbihi.com/wp-content/uploads/2023/09/Ala-Moana-Hotel-Pakalana-Anthurium1.png
END:VEVENT
END:VCALENDAR